Workbook

Sheet Digitación
E2: Escala Prácticas de Convivencia Escolar para Equipos Directivos, Profesores y Asistentes de la Educación
E3: Programa de Apoyo a la Convivencia Escolar PACES
B5: DIGITE CADA ENCUESTA, MARCANDO LAS RESPUESTAS DE LA SIGUIENTE MANERA:
B6: 1= Nunca | D6: 3= Regularmente | F6: 5= Siempre
B8: 2= Algunas veces | D8: 4= Casi siempre
A9: ENCUESTA Nº | B9: 1.Existe un ambiente familiar. | C9: 2.Nos sentimos orgullosos de trabajar aquí. | D9: 3.Cuando llega un nuevo profesor, recibe una inducción. | E9: 4.Existe confianza y buena comunicación entre todos los actores de la comunidad escolar. | F9: 5.Los padres y apoderados confían en la escuela. | G9: 6.Existe una comunicación fluida con los padres y apoderados | H9: 7.Percibimos a los estudiantes contentos y a las familias satisfechas. | I9: 8.Hay muchas tradiciones que nos hacen sentir parte de ella. | J9: 9.Existen estrategias efectivas para potenciar a los estudiantes con intereses diversos. | K9: 10.Se identifican a tiempo a los estudiantes que presentan necesidades de apoyo (sociales, afectivas y conductuales) | L9: 11.Existen mecanismos efectivos para apoyar a los estudiantes que presentan problemas de aprendizaje. | M9: 12.Existen mecanismos efectivos para apoyar a los estudiantes que presentan problemas de conducta. | N9: 13.Los estudiantes más aventajados ayudan a los que presentan barreras para el aprendizaje. | O9: 14.Los profesores monitorean constantemente el aprendizaje de los estudiantes. | P9: 15.Al equipo directivo le interesa el desarrollo y la formación continua de los profesores. | Q9: 16.Se promueve el perfeccionamiento docente de todos los profesores. | R9: 17.Existe una cultura de mejoramiento continuo. | S9: 18.Los profesores y demás profesionales pueden proponer cosas nuevas | T9: 19.Son acogidas las propuestas formuladas por los profesores y demás profesionales | U9: 20.La formación continua y el crecimiento profesional están altamente arraigados en la cultura escolar. | V9: 21.Se promueve la formación de profesionales no docentes (psicólogos, asistentes sociales, etc). | W9: 22.Siempre estamos evaluando lo que hacemos y nos retroalimentamos. | X9: 23.Todos tenemos claros nuestros objetivos como miembros de esta comunidad escolar. | Y9: 24.Todos trabajamos para llevar a cabo objetivos comunes. | Z9: 25.Los profesores comparten sus buenas prácticas para mejorar la convivencia escolar. | AA9: 26.Los profesores comparten sus buenas prácticas para mejorar los aprendizajes. | AB9: 27.Existe una responsabilidad compartida: los triunfos y fracasos son de todos. | AC9: 28.Las normas son claras y conocidas por todos/as. | AD9: 29.Las normas se aplican con justicia | AE9: 30.Los profesores se apoyan en el reglamento escolar para resolver los problemas que se presentan en la sala de clases. | AF9: 31.Los asistentes de la educación se apoyan en el reglamento escolar para resolver los problemas que se presentan fuera del aula. | AG9: 32.El equipo directivo se apoya en el reglamento escolar para resolver los problemas que se presentan en la escuela. | AH9: 33.Los estudiantes están motivados y participan activamente en la vida de la escuela. | AI9: 34.Se atiende a los padres y apoderados que requieren atención especial para sus hijos. | AJ9: 35.Se respetan las ideas de los estudiantes. | AK9: 36.Se les motiva a los estudiantes para que puedan expresar sus ideas. | AL9: 37.Se toman en cuenta las opiniones de los padres y apoderados sobre la formación de sus hijos | AM9: 38.Se toman en cuenta las opiniones de los estudiantes respecto de su formación. | AN9: 39.Se crean las instancias para que participen los vecinos u otros miembros de la comuna | AO9: 40.Los vecinos del barrio tienen una opinión positiva de la escuela. | AP9: 41.Los padres y apoderados participan activamente en las soluciones antes los problemas de convivencia escolar. | AQ9: 42.Los padres y apoderados participan del diseño de protocolos y reglamentos de convivencia escolar. | AR9: 43.Los estudiantes participan del diseño de protocolos y reglamentos de convivencia escolar. | AS9: 44.Se castiga a los estudiantes que presentan problemas de conducta. | AT9: 45.Se suspende temporalmente de la escuela a los estudiantes que cometen faltas. | AU9: 46.Se expulsa de la sala de clases a los estudiantes que interfieren el buen clima de aula. | AV9: 47.A fin de año se invita a los estudiantes con problemas de conducta a buscar otro ambiente educativo | AW9: 48.Creemos que es necesario incorporar cambios para mejorar la convivencia escolar. | AX9: 49.Existe una apertura constante al cambio para el desarrollo de esta escuela | AY9: 50.El equipo directivo apoya los cambios propuestos para mejorar la convivencia escolar. | AZ9: 51.Existe una disposición constante al cambio cuando las estrategias no dan resultados. | BA9: 52.Los profesores y profesionales de apoyo conforman un equipo de trabajo cohesionado. | BB9: 53.Los profesores y profesionales de apoyo conforman un equipo de trabajo competente. | BC9: 54.Los profesores en general tienen una buena opinión de sus colegas. | BD9: 55.Existe una buena comunicación entre profesores y el equipo directivo. | BE9: 56.El equipo directivo comunica a los miembros de la comunidad escolar que siempre pueden mejorar sus prácticas. | BF9: 57.Las reuniones periódicas sí sirven para resolver los problemas y tomar decisiones. | BG9: 58.El equipo directivo, profesores y profesionales no docentes comparten la misma visión sobre convivencia escolar. | BH9: 59.Han habido acciones para la mejora de la convivencia escolar, que demuestran el compromiso de la escuela sobre este tema. | BI9: 60.Se incluye a todos los miembros de la comunidad (estudiantes, padres y apoderados, etc) en el proceso de la mejora de la convivencia escolar. | BJ9: 61.Uno de los objetivos explícitos es el desarrollo de una cultura de la confianza. | BK9: 62.Uno de los objetivos de esta escuela es el fomento de la solidaridad | BL9: 63.Existen los recursos necesarios para apoyar los procesos de mejoramiento de la convivencia escolar. | BM9: 64.El equipo directivo señala que el mejoramiento de la convivencia escolar es un proceso continuo y tarea de todos. | BN9: 65.La reflexión es una habilidad explícita (se habla de ella) y es bien valorada por la comunidad. | BO9: 66.Se adoptan medidas preventivas para evitar los problemas de convivencia. | BP9: 67.Se identifican a tiempo juegos violentos en el recreo. | BQ9: 68.Se identifican a tiempo los conflictos entre estudiantes y profesores | BR9: 69.Se identifican a tiempo las relaciones violentas entre estudiantes (sean de compañeros, pololeo o amistad). | BS9: 70.Se utilizan los consejos de cursos para tratar temas que mejoren la convivencia. | BT9: 71.Se promueve la resolución pacífica de conflictos. | BU9: 72.Se promueve la tolerancia, el compañerismo y la solidaridad entre los miembros del establecimiento. | BV9: 73.Se trabajan cotidianamente los objetivos fundamentales transversales del currículum. | BW9: 74.Existen instancias y actividades de fortalecimiento para el aprendizaje de habilidades emociones y sociales.
A10: 1
A11: 2
A12: 3
A13: 4
A14: 5
A15: 6
A16: 7
A17: 8
A18: 9
A19: 10
A20: 11
A21: 12
... A109: 100

Sheet Informe con Tablas
A1: INFORME DE RESULTADOS Escala Prácticas de Convivencia Escolar para Equipos Directivos, Profesores y Asistentes de la Educación
A3: Consiste en un instrumento que permite revelar acciones concretas que realizan las y los adultos de la comunidad (Equipo directivo, profesores y asistentes de la educación) al interior de las escuelas respecto a prácticas de convivencia escolar
A5: ESTABLECIMIENTO:
A6: RESPONSABLE:
A8: Nº ENCUESTAS APLICADAS: | B8: 1
B9: (indicar la cantidad de personas que respondieron la encuesta)
A10: SIMBOLOGÍA
A11: 🔺 : Porcentaje de frecuena alta en prácticas de convivencia escolar (3 Regularmente - 5 siempre).
A12: 🔻: Porcentaje de frecuencia baja o nula en prácticas de convivencia escolar (1 Nunca - 2 Algunas veces).
A14: Dimensión | B14: 🔺 | C14: 🔻
A15: Cultura Inclusiva | B15: =AVERAGE(G30:G37) -> 0 | C15: =AVERAGE(H30:H37) -> 0
A16: Prácticas Inclusivas | B16: =AVERAGE(G38:G43) -> 0 | C16: =AVERAGE(H38:H43) -> 0
A17: Formación Continua | B17: =AVERAGE(G44:G51) -> 0 | C17: =AVERAGE(H44:H51) -> 0
A18: Orientación al Trabajo en Equipo | B18: =AVERAGE(G52:G56) -> 0 | C18: =AVERAGE(H52:H56) -> 0
A19: Normas Compartidas | B19: =AVERAGE(G57:G61) -> 0 | C19: =AVERAGE(H57:H61) -> 0
A20: Participación Democrática | B20: =AVERAGE(G62:G72) -> 0 | C20: =AVERAGE(H62:H72) -> 0
A21: Prácticas Punitivas | B21: =AVERAGE(G73:G76) -> 0 | C21: =AVERAGE(H73:H76) -> 0
A22: Actitudes de Disposición al Cambio | B22: =AVERAGE(G77:G80) -> 0 | C22: =AVERAGE(H77:H80) -> 0
A23: Disposición Organizacional | B23: =AVERAGE(G81:G86) -> 0 | C23: =AVERAGE(H81:H86) -> 0
A24: Cultura de Mejoramiento de la Convivencia | B24: =AVERAGE(G87:G94) -> 0 | C24: =AVERAGE(H87:H94) -> 0
A25: Prevención de los Problemas de Convivencia | B25: =AVERAGE(G95:G99) -> 0 | C25: =AVERAGE(H95:H99) -> 0
A26: Promoción de la Buena Convivencia | B26: =AVERAGE(G100:G103) -> 0 | C26: =AVERAGE(H100:H103) -> 0
B29: Nunca (1) | C29: Algunas veces (2) | D29: Regularmente (3) | E29: Casi siempre (4) | F29: Siempre (5) | G29: 🔺 | H29: 🔻
A30: 1.Existe un ambiente familiar. | B30: =COUNTIF('Digitación'!B:B,1)/$B$8 -> 0 | C30: =COUNTIF('Digitación'!B:B,2)/$B$8 -> 0 | D30: =COUNTIF('Digitación'!B:B,3)/$B$8 -> 0 | E30: =COUNTIF('Digitación'!B:B,4)/$B$8 -> 0 | F30: =COUNTIF('Digitación'!B:B,5)/$B$8 -> 0 | G30: =AVERAGE(D30+E30+F30) -> 0 | H30: =AVERAGE(B30+C30) -> 0
A31: 2.Nos sentimos orgullosos de trabajar aquí. | B31: =COUNTIF('Digitación'!C:C,1)/$B$8 -> 0 | C31: =COUNTIF('Digitación'!C:C,2)/$B$8 -> 0 | D31: =COUNTIF('Digitación'!C:C,3)/$B$8 -> 0 | E31: =COUNTIF('Digitación'!C:C,4)/$B$8 -> 0 | F31: =COUNTIF('Digitación'!C:C,5)/$B$8 -> 0 | G31: =AVERAGE(D31+E31+F31) -> 0 | H31: =AVERAGE(B31+C31) -> 0
A32: 3.Cuando llega un nuevo profesor, recibe una inducción. | B32: =COUNTIF('Digitación'!D:D,1)/$B$8 -> 0 | C32: =COUNTIF('Digitación'!D:D,2)/$B$8 -> 0 | D32: =COUNTIF('Digitación'!D:D,3)/$B$8 -> 0 | E32: =COUNTIF('Digitación'!D:D,4)/$B$8 -> 0 | F32: =COUNTIF('Digitación'!D:D,5)/$B$8 -> 0 | G32: =AVERAGE(D32+E32+F32) -> 0 | H32: =AVERAGE(B32+C32) -> 0
A33: 4.Existe confianza y buena comunicación entre todos los actores de la comunidad escolar. | B33: =COUNTIF('Digitación'!E:E,1)/$B$8 -> 0 | C33: =COUNTIF('Digitación'!E:E,2)/$B$8 -> 0 | D33: =COUNTIF('Digitación'!E:E,3)/$B$8 -> 0 | E33: =COUNTIF('Digitación'!E:E,4)/$B$8 -> 0 | F33: =COUNTIF('Digitación'!E:E,5)/$B$8 -> 0 | G33: =AVERAGE(D33+E33+F33) -> 0 | H33: =AVERAGE(B33+C33) -> 0
A34: 5.Los padres y apoderados confían en la escuela. | B34: =COUNTIF('Digitación'!F:F,1)/$B$8 -> 0 | C34: =COUNTIF('Digitación'!F:F,2)/$B$8 -> 0 | D34: =COUNTIF('Digitación'!F:F,3)/$B$8 -> 0 | E34: =COUNTIF('Digitación'!F:F,4)/$B$8 -> 0 | F34: =COUNTIF('Digitación'!F:F,5)/$B$8 -> 0 | G34: =AVERAGE(D34+E34+F34) -> 0 | H34: =AVERAGE(B34+C34) -> 0
A35: 6.Existe una comunicación fluida con los padres y apoderados | B35: =COUNTIF('Digitación'!G:G,1)/$B$8 -> 0 | C35: =COUNTIF('Digitación'!G:G,2)/$B$8 -> 0 | D35: =COUNTIF('Digitación'!G:G,3)/$B$8 -> 0 | E35: =COUNTIF('Digitación'!G:G,4)/$B$8 -> 0 | F35: =COUNTIF('Digitación'!G:G,5)/$B$8 -> 0 | G35: =AVERAGE(D35+E35+F35) -> 0 | H35: =AVERAGE(B35+C35) -> 0
A36: 7.Percibimos a los estudiantes contentos y a las familias satisfechas. | B36: =COUNTIF('Digitación'!H:H,1)/$B$8 -> 0 | C36: =COUNTIF('Digitación'!H:H,2)/$B$8 -> 0 | D36: =COUNTIF('Digitación'!H:H,3)/$B$8 -> 0 | E36: =COUNTIF('Digitación'!H:H,4)/$B$8 -> 0 | F36: =COUNTIF('Digitación'!H:H,5)/$B$8 -> 0 | G36: =AVERAGE(D36+E36+F36) -> 0 | H36: =AVERAGE(B36+C36) -> 0
A37: 8.Hay muchas tradiciones que nos hacen sentir parte de ella. | B37: =COUNTIF('Digitación'!I:I,1)/$B$8 -> 0 | C37: =COUNTIF('Digitación'!I:I,2)/$B$8 -> 0 | D37: =COUNTIF('Digitación'!I:I,3)/$B$8 -> 0 | E37: =COUNTIF('Digitación'!I:I,4)/$B$8 -> 0 | F37: =COUNTIF('Digitación'!I:I,5)/$B$8 -> 0 | G37: =AVERAGE(D37+E37+F37) -> 0 | H37: =AVERAGE(B37+C37) -> 0
A38: 9.Existen estrategias efectivas para potenciar a los estudiantes con intereses diversos. | B38: =COUNTIF('Digitación'!J:J,1)/$B$8 -> 0 | C38: =COUNTIF('Digitación'!J:J,2)/$B$8 -> 0 | D38: =COUNTIF('Digitación'!J:J,3)/$B$8 -> 0 | E38: =COUNTIF('Digitación'!J:J,4)/$B$8 -> 0 | F38: =COUNTIF('Digitación'!J:J,5)/$B$8 -> 0 | G38: =AVERAGE(D38+E38+F38) -> 0 | H38: =AVERAGE(B38+C38) -> 0
A39: 10.Se identifican a tiempo a los estudiantes que presentan necesidades de apoyo (sociales, afectivas y conductuales) | B39: =COUNTIF('Digitación'!K:K,1)/$B$8 -> 0 | C39: =COUNTIF('Digitación'!K:K,2)/$B$8 -> 0 | D39: =COUNTIF('Digitación'!K:K,3)/$B$8 -> 0 | E39: =COUNTIF('Digitación'!K:K,4)/$B$8 -> 0 | F39: =COUNTIF('Digitación'!K:K,5)/$B$8 -> 0 | G39: =AVERAGE(D39+E39+F39) -> 0 | H39: =AVERAGE(B39+C39) -> 0
A40: 11.Existen mecanismos efectivos para apoyar a los estudiantes que presentan problemas de aprendizaje. | B40: =COUNTIF('Digitación'!L:L,1)/$B$8 -> 0 | C40: =COUNTIF('Digitación'!L:L,2)/$B$8 -> 0 | D40: =COUNTIF('Digitación'!L:L,3)/$B$8 -> 0 | E40: =COUNTIF('Digitación'!L:L,4)/$B$8 -> 0 | F40: =COUNTIF('Digitación'!L:L,5)/$B$8 -> 0 | G40: =AVERAGE(D40+E40+F40) -> 0 | H40: =AVERAGE(B40+C40) -> 0
A41: 12.Existen mecanismos efectivos para apoyar a los estudiantes que presentan problemas de conducta. | B41: =COUNTIF('Digitación'!M:M,1)/$B$8 -> 0 | C41: =COUNTIF('Digitación'!M:M,2)/$B$8 -> 0 | D41: =COUNTIF('Digitación'!M:M,3)/$B$8 -> 0 | E41: =COUNTIF('Digitación'!M:M,4)/$B$8 -> 0 | F41: =COUNTIF('Digitación'!M:M,5)/$B$8 -> 0 | G41: =AVERAGE(D41+E41+F41) -> 0 | H41: =AVERAGE(B41+C41) -> 0
A42: 13.Los estudiantes más aventajados ayudan a los que presentan barreras para el aprendizaje. | B42: =COUNTIF('Digitación'!N:N,1)/$B$8 -> 0 | C42: =COUNTIF('Digitación'!N:N,2)/$B$8 -> 0 | D42: =COUNTIF('Digitación'!N:N,3)/$B$8 -> 0 | E42: =COUNTIF('Digitación'!N:N,4)/$B$8 -> 0 | F42: =COUNTIF('Digitación'!N:N,5)/$B$8 -> 0 | G42: =AVERAGE(D42+E42+F42) -> 0 | H42: =AVERAGE(B42+C42) -> 0
A43: 14.Los profesores monitorean constantemente el aprendizaje de los estudiantes. | B43: =COUNTIF('Digitación'!O:O,1)/$B$8 -> 0 | C43: =COUNTIF('Digitación'!O:O,2)/$B$8 -> 0 | D43: =COUNTIF('Digitación'!O:O,3)/$B$8 -> 0 | E43: =COUNTIF('Digitación'!O:O,4)/$B$8 -> 0 | F43: =COUNTIF('Digitación'!O:O,5)/$B$8 -> 0 | G43: =AVERAGE(D43+E43+F43) -> 0 | H43: =AVERAGE(B43+C43) -> 0
A44: 15.Al equipo directivo le interesa el desarrollo y la formación continua de los profesores. | B44: =COUNTIF('Digitación'!P:P,1)/$B$8 -> 0 | C44: =COUNTIF('Digitación'!P:P,2)/$B$8 -> 0 | D44: =COUNTIF('Digitación'!P:P,3)/$B$8 -> 0 | E44: =COUNTIF('Digitación'!P:P,4)/$B$8 -> 0 | F44: =COUNTIF('Digitación'!P:P,5)/$B$8 -> 0 | G44: =AVERAGE(D44+E44+F44) -> 0 | H44: =AVERAGE(B44+C44) -> 0
A45: 16.Se promueve el perfeccionamiento docente de todos los profesores. | B45: =COUNTIF('Digitación'!Q:Q,1)/$B$8 -> 0 | C45: =COUNTIF('Digitación'!Q:Q,2)/$B$8 -> 0 | D45: =COUNTIF('Digitación'!Q:Q,3)/$B$8 -> 0 | E45: =COUNTIF('Digitación'!Q:Q,4)/$B$8 -> 0 | F45: =COUNTIF('Digitación'!Q:Q,5)/$B$8 -> 0 | G45: =AVERAGE(D45+E45+F45) -> 0 | H45: =AVERAGE(B45+C45) -> 0
A46: 17.Existe una cultura de mejoramiento continuo. | B46: =COUNTIF('Digitación'!R:R,1)/$B$8 -> 0 | C46: =COUNTIF('Digitación'!R:R,2)/$B$8 -> 0 | D46: =COUNTIF('Digitación'!R:R,3)/$B$8 -> 0 | E46: =COUNTIF('Digitación'!R:R,4)/$B$8 -> 0 | F46: =COUNTIF('Digitación'!R:R,5)/$B$8 -> 0 | G46: =AVERAGE(D46+E46+F46) -> 0 | H46: =AVERAGE(B46+C46) -> 0
A47: 18.Los profesores y demás profesionales pueden proponer cosas nuevas | B47: =COUNTIF('Digitación'!S:S,1)/$B$8 -> 0 | C47: =COUNTIF('Digitación'!S:S,2)/$B$8 -> 0 | D47: =COUNTIF('Digitación'!S:S,3)/$B$8 -> 0 | E47: =COUNTIF('Digitación'!S:S,4)/$B$8 -> 0 | F47: =COUNTIF('Digitación'!S:S,5)/$B$8 -> 0 | G47: =AVERAGE(D47+E47+F47) -> 0 | H47: =AVERAGE(B47+C47) -> 0
A48: 19.Son acogidas las propuestas formuladas por los profesores y demás profesionales | B48: =COUNTIF('Digitación'!T:T,1)/$B$8 -> 0 | C48: =COUNTIF('Digitación'!T:T,2)/$B$8 -> 0 | D48: =COUNTIF('Digitación'!T:T,3)/$B$8 -> 0 | E48: =COUNTIF('Digitación'!T:T,4)/$B$8 -> 0 | F48: =COUNTIF('Digitación'!T:T,5)/$B$8 -> 0 | G48: =AVERAGE(D48+E48+F48) -> 0 | H48: =AVERAGE(B48+C48) -> 0
A49: 20.La formación continua y el crecimiento profesional están altamente arraigados en la cultura escolar. | B49: =COUNTIF('Digitación'!U:U,1)/$B$8 -> 0 | C49: =COUNTIF('Digitación'!U:U,2)/$B$8 -> 0 | D49: =COUNTIF('Digitación'!U:U,3)/$B$8 -> 0 | E49: =COUNTIF('Digitación'!U:U,4)/$B$8 -> 0 | F49: =COUNTIF('Digitación'!U:U,5)/$B$8 -> 0 | G49: =AVERAGE(D49+E49+F49) -> 0 | H49: =AVERAGE(B49+C49) -> 0
A50: 21.Se promueve la formación de profesionales no docentes (psicólogos, asistentes sociales, etc). | B50: =COUNTIF('Digitación'!V:V,1)/$B$8 -> 0 | C50: =COUNTIF('Digitación'!V:V,2)/$B$8 -> 0 | D50: =COUNTIF('Digitación'!V:V,3)/$B$8 -> 0 | E50: =COUNTIF('Digitación'!V:V,4)/$B$8 -> 0 | F50: =COUNTIF('Digitación'!V:V,5)/$B$8 -> 0 | G50: =AVERAGE(D50+E50+F50) -> 0 | H50: =AVERAGE(B50+C50) -> 0
A51: 22.Siempre estamos evaluando lo que hacemos y nos retroalimentamos. | B51: =COUNTIF('Digitación'!W:W,1)/$B$8 -> 0 | C51: =COUNTIF('Digitación'!W:W,2)/$B$8 -> 0 | D51: =COUNTIF('Digitación'!W:W,3)/$B$8 -> 0 | E51: =COUNTIF('Digitación'!W:W,4)/$B$8 -> 0 | F51: =COUNTIF('Digitación'!W:W,5)/$B$8 -> 0 | G51: =AVERAGE(D51+E51+F51) -> 0 | H51: =AVERAGE(B51+C51) -> 0
A52: 23.Todos tenemos claros nuestros objetivos como miembros de esta comunidad escolar. | B52: =COUNTIF('Digitación'!X:X,1)/$B$8 -> 0 | C52: =COUNTIF('Digitación'!X:X,2)/$B$8 -> 0 | D52: =COUNTIF('Digitación'!X:X,3)/$B$8 -> 0 | E52: =COUNTIF('Digitación'!X:X,4)/$B$8 -> 0 | F52: =COUNTIF('Digitación'!X:X,5)/$B$8 -> 0 | G52: =AVERAGE(D52+E52+F52) -> 0 | H52: =AVERAGE(B52+C52) -> 0
A53: 24.Todos trabajamos para llevar a cabo objetivos comunes. | B53: =COUNTIF('Digitación'!Y:Y,1)/$B$8 -> 0 | C53: =COUNTIF('Digitación'!Y:Y,2)/$B$8 -> 0 | D53: =COUNTIF('Digitación'!Y:Y,3)/$B$8 -> 0 | E53: =COUNTIF('Digitación'!Y:Y,4)/$B$8 -> 0 | F53: =COUNTIF('Digitación'!Y:Y,5)/$B$8 -> 0 | G53: =AVERAGE(D53+E53+F53) -> 0 | H53: =AVERAGE(B53+C53) -> 0
A54: 25.Los profesores comparten sus buenas prácticas para mejorar la convivencia escolar. | B54: =COUNTIF('Digitación'!Z:Z,1)/$B$8 -> 0 | C54: =COUNTIF('Digitación'!Z:Z,2)/$B$8 -> 0 | D54: =COUNTIF('Digitación'!Z:Z,3)/$B$8 -> 0 | E54: =COUNTIF('Digitación'!Z:Z,4)/$B$8 -> 0 | F54: =COUNTIF('Digitación'!Z:Z,5)/$B$8 -> 0 | G54: =AVERAGE(D54+E54+F54) -> 0 | H54: =AVERAGE(B54+C54) -> 0
A55: 26.Los profesores comparten sus buenas prácticas para mejorar los aprendizajes. | B55: =COUNTIF('Digitación'!AA:AA,1)/$B$8 -> 0 | C55: =COUNTIF('Digitación'!AA:AA,2)/$B$8 -> 0 | D55: =COUNTIF('Digitación'!AA:AA,3)/$B$8 -> 0 | E55: =COUNTIF('Digitación'!AA:AA,4)/$B$8 -> 0 | F55: =COUNTIF('Digitación'!AA:AA,5)/$B$8 -> 0 | G55: =AVERAGE(D55+E55+F55) -> 0 | H55: =AVERAGE(B55+C55) -> 0
A56: 27.Existe una responsabilidad compartida: los triunfos y fracasos son de todos. | B56: =COUNTIF('Digitación'!AB:AB,1)/$B$8 -> 0 | C56: =COUNTIF('Digitación'!AB:AB,2)/$B$8 -> 0 | D56: =COUNTIF('Digitación'!AB:AB,3)/$B$8 -> 0 | E56: =COUNTIF('Digitación'!AB:AB,4)/$B$8 -> 0 | F56: =COUNTIF('Digitación'!AB:AB,5)/$B$8 -> 0 | G56: =AVERAGE(D56+E56+F56) -> 0 | H56: =AVERAGE(B56+C56) -> 0
A57: 28.Las normas son claras y conocidas por todos/as. | B57: =COUNTIF('Digitación'!AC:AC,1)/$B$8 -> 0 | C57: =COUNTIF('Digitación'!AC:AC,2)/$B$8 -> 0 | D57: =COUNTIF('Digitación'!AC:AC,3)/$B$8 -> 0 | E57: =COUNTIF('Digitación'!AC:AC,4)/$B$8 -> 0 | F57: =COUNTIF('Digitación'!AC:AC,5)/$B$8 -> 0 | G57: =AVERAGE(D57+E57+F57) -> 0 | H57: =AVERAGE(B57+C57) -> 0
A58: 29.Las normas se aplican con justicia | B58: =COUNTIF('Digitación'!AD:AD,1)/$B$8 -> 0 | C58: =COUNTIF('Digitación'!AD:AD,2)/$B$8 -> 0 | D58: =COUNTIF('Digitación'!AD:AD,3)/$B$8 -> 0 | E58: =COUNTIF('Digitación'!AD:AD,4)/$B$8 -> 0 | F58: =COUNTIF('Digitación'!AD:AD,5)/$B$8 -> 0 | G58: =AVERAGE(D58+E58+F58) -> 0 | H58: =AVERAGE(B58+C58) -> 0
A59: 30.Los profesores se apoyan en el reglamento escolar para resolver los problemas que se presentan en la sala de clases. | B59: =COUNTIF('Digitación'!AE:AE,1)/$B$8 -> 0 | C59: =COUNTIF('Digitación'!AE:AE,2)/$B$8 -> 0 | D59: =COUNTIF('Digitación'!AE:AE,3)/$B$8 -> 0 | E59: =COUNTIF('Digitación'!AE:AE,4)/$B$8 -> 0 | F59: =COUNTIF('Digitación'!AE:AE,5)/$B$8 -> 0 | G59: =AVERAGE(D59+E59+F59) -> 0 | H59: =AVERAGE(B59+C59) -> 0
A60: 31.Los asistentes de la educación se apoyan en el reglamento escolar para resolver los problemas que se presentan fuera del aula. | B60: =COUNTIF('Digitación'!AF:AF,1)/$B$8 -> 0 | C60: =COUNTIF('Digitación'!AF:AF,2)/$B$8 -> 0 | D60: =COUNTIF('Digitación'!AF:AF,3)/$B$8 -> 0 | E60: =COUNTIF('Digitación'!AF:AF,4)/$B$8 -> 0 | F60: =COUNTIF('Digitación'!AF:AF,5)/$B$8 -> 0 | G60: =AVERAGE(D60+E60+F60) -> 0 | H60: =AVERAGE(B60+C60) -> 0
A61: 32.El equipo directivo se apoya en el reglamento escolar para resolver los problemas que se presentan en la escuela. | B61: =COUNTIF('Digitación'!AG:AG,1)/$B$8 -> 0 | C61: =COUNTIF('Digitación'!AG:AG,2)/$B$8 -> 0 | D61: =COUNTIF('Digitación'!AG:AG,3)/$B$8 -> 0 | E61: =COUNTIF('Digitación'!AG:AG,4)/$B$8 -> 0 | F61: =COUNTIF('Digitación'!AG:AG,5)/$B$8 -> 0 | G61: =AVERAGE(D61+E61+F61) -> 0 | H61: =AVERAGE(B61+C61) -> 0
A62: 33.Los estudiantes están motivados y participan activamente en la vida de la escuela. | B62: =COUNTIF('Digitación'!AH:AH,1)/$B$8 -> 0 | C62: =COUNTIF('Digitación'!AH:AH,2)/$B$8 -> 0 | D62: =COUNTIF('Digitación'!AH:AH,3)/$B$8 -> 0 | E62: =COUNTIF('Digitación'!AH:AH,4)/$B$8 -> 0 | F62: =COUNTIF('Digitación'!AH:AH,5)/$B$8 -> 0 | G62: =AVERAGE(D62+E62+F62) -> 0 | H62: =AVERAGE(B62+C62) -> 0
A63: 34.Se atiende a los padres y apoderados que requieren atención especial para sus hijos. | B63: =COUNTIF('Digitación'!AI:AI,1)/$B$8 -> 0 | C63: =COUNTIF('Digitación'!AI:AI,2)/$B$8 -> 0 | D63: =COUNTIF('Digitación'!AI:AI,3)/$B$8 -> 0 | E63: =COUNTIF('Digitación'!AI:AI,4)/$B$8 -> 0 | F63: =COUNTIF('Digitación'!AI:AI,5)/$B$8 -> 0 | G63: =AVERAGE(D63+E63+F63) -> 0 | H63: =AVERAGE(B63+C63) -> 0
A64: 35.Se respetan las ideas de los estudiantes. | B64: =COUNTIF('Digitación'!AJ:AJ,1)/$B$8 -> 0 | C64: =COUNTIF('Digitación'!AJ:AJ,2)/$B$8 -> 0 | D64: =COUNTIF('Digitación'!AJ:AJ,3)/$B$8 -> 0 | E64: =COUNTIF('Digitación'!AJ:AJ,4)/$B$8 -> 0 | F64: =COUNTIF('Digitación'!AJ:AJ,5)/$B$8 -> 0 | G64: =AVERAGE(D64+E64+F64) -> 0 | H64: =AVERAGE(B64+C64) -> 0
A65: 36.Se les motiva a los estudiantes para que puedan expresar sus ideas. | B65: =COUNTIF('Digitación'!AK:AK,1)/$B$8 -> 0 | C65: =COUNTIF('Digitación'!AK:AK,2)/$B$8 -> 0 | D65: =COUNTIF('Digitación'!AK:AK,3)/$B$8 -> 0 | E65: =COUNTIF('Digitación'!AK:AK,4)/$B$8 -> 0 | F65: =COUNTIF('Digitación'!AK:AK,5)/$B$8 -> 0 | G65: =AVERAGE(D65+E65+F65) -> 0 | H65: =AVERAGE(B65+C65) -> 0
A66: 37.Se toman en cuenta las opiniones de los padres y apoderados sobre la formación de sus hijos | B66: =COUNTIF('Digitación'!AL:AL,1)/$B$8 -> 0 | C66: =COUNTIF('Digitación'!AL:AL,2)/$B$8 -> 0 | D66: =COUNTIF('Digitación'!AL:AL,3)/$B$8 -> 0 | E66: =COUNTIF('Digitación'!AL:AL,4)/$B$8 -> 0 | F66: =COUNTIF('Digitación'!AL:AL,5)/$B$8 -> 0 | G66: =AVERAGE(D66+E66+F66) -> 0 | H66: =AVERAGE(B66+C66) -> 0
A67: 38.Se toman en cuenta las opiniones de los estudiantes respecto de su formación. | B67: =COUNTIF('Digitación'!AM:AM,1)/$B$8 -> 0 | C67: =COUNTIF('Digitación'!AM:AM,2)/$B$8 -> 0 | D67: =COUNTIF('Digitación'!AM:AM,3)/$B$8 -> 0 | E67: =COUNTIF('Digitación'!AM:AM,4)/$B$8 -> 0 | F67: =COUNTIF('Digitación'!AM:AM,5)/$B$8 -> 0 | G67: =AVERAGE(D67+E67+F67) -> 0 | H67: =AVERAGE(B67+C67) -> 0
A68: 39.Se crean las instancias para que participen los vecinos u otros miembros de la comuna | B68: =COUNTIF('Digitación'!AN:AN,1)/$B$8 -> 0 | C68: =COUNTIF('Digitación'!AN:AN,2)/$B$8 -> 0 | D68: =COUNTIF('Digitación'!AN:AN,3)/$B$8 -> 0 | E68: =COUNTIF('Digitación'!AN:AN,4)/$B$8 -> 0 | F68: =COUNTIF('Digitación'!AN:AN,5)/$B$8 -> 0 | G68: =AVERAGE(D68+E68+F68) -> 0 | H68: =AVERAGE(B68+C68) -> 0
A69: 40.Los vecinos del barrio tienen una opinión positiva de la escuela. | B69: =COUNTIF('Digitación'!AO:AO,1)/$B$8 -> 0 | C69: =COUNTIF('Digitación'!AO:AO,2)/$B$8 -> 0 | D69: =COUNTIF('Digitación'!AO:AO,3)/$B$8 -> 0 | E69: =COUNTIF('Digitación'!AO:AO,4)/$B$8 -> 0 | F69: =COUNTIF('Digitación'!AO:AO,5)/$B$8 -> 0 | G69: =AVERAGE(D69+E69+F69) -> 0 | H69: =AVERAGE(B69+C69) -> 0
A70: 41.Los padres y apoderados participan activamente en las soluciones antes los problemas de convivencia escolar. | B70: =COUNTIF('Digitación'!AP:AP,1)/$B$8 -> 0 | C70: =COUNTIF('Digitación'!AP:AP,2)/$B$8 -> 0 | D70: =COUNTIF('Digitación'!AP:AP,3)/$B$8 -> 0 | E70: =COUNTIF('Digitación'!AP:AP,4)/$B$8 -> 0 | F70: =COUNTIF('Digitación'!AP:AP,5)/$B$8 -> 0 | G70: =AVERAGE(D70+E70+F70) -> 0 | H70: =AVERAGE(B70+C70) -> 0
A71: 42.Los padres y apoderados participan del diseño de protocolos y reglamentos de convivencia escolar. | B71: =COUNTIF('Digitación'!AQ:AQ,1)/$B$8 -> 0 | C71: =COUNTIF('Digitación'!AQ:AQ,2)/$B$8 -> 0 | D71: =COUNTIF('Digitación'!AQ:AQ,3)/$B$8 -> 0 | E71: =COUNTIF('Digitación'!AQ:AQ,4)/$B$8 -> 0 | F71: =COUNTIF('Digitación'!AQ:AQ,5)/$B$8 -> 0 | G71: =AVERAGE(D71+E71+F71) -> 0 | H71: =AVERAGE(B71+C71) -> 0
A72: 43.Los estudiantes participan del diseño de protocolos y reglamentos de convivencia escolar. | B72: =COUNTIF('Digitación'!AR:AR,1)/$B$8 -> 0 | C72: =COUNTIF('Digitación'!AR:AR,2)/$B$8 -> 0 | D72: =COUNTIF('Digitación'!AR:AR,3)/$B$8 -> 0 | E72: =COUNTIF('Digitación'!AR:AR,4)/$B$8 -> 0 | F72: =COUNTIF('Digitación'!AR:AR,5)/$B$8 -> 0 | G72: =AVERAGE(D72+E72+F72) -> 0 | H72: =AVERAGE(B72+C72) -> 0
A73: 44.Se castiga a los estudiantes que presentan problemas de conducta. | B73: =COUNTIF('Digitación'!AS:AS,1)/$B$8 -> 0 | C73: =COUNTIF('Digitación'!AS:AS,2)/$B$8 -> 0 | D73: =COUNTIF('Digitación'!AS:AS,3)/$B$8 -> 0 | E73: =COUNTIF('Digitación'!AS:AS,4)/$B$8 -> 0 | F73: =COUNTIF('Digitación'!AS:AS,5)/$B$8 -> 0 | G73: =AVERAGE(D73+E73+F73) -> 0 | H73: =AVERAGE(B73+C73) -> 0
A74: 45.Se suspende temporalmente de la escuela a los estudiantes que cometen faltas. | B74: =COUNTIF('Digitación'!AT:AT,1)/$B$8 -> 0 | C74: =COUNTIF('Digitación'!AT:AT,2)/$B$8 -> 0 | D74: =COUNTIF('Digitación'!AT:AT,3)/$B$8 -> 0 | E74: =COUNTIF('Digitación'!AT:AT,4)/$B$8 -> 0 | F74: =COUNTIF('Digitación'!AT:AT,5)/$B$8 -> 0 | G74: =AVERAGE(D74+E74+F74) -> 0 | H74: =AVERAGE(B74+C74) -> 0
A75: 46.Se expulsa de la sala de clases a los estudiantes que interfieren el buen clima de aula. | B75: =COUNTIF('Digitación'!AU:AU,1)/$B$8 -> 0 | C75: =COUNTIF('Digitación'!AU:AU,2)/$B$8 -> 0 | D75: =COUNTIF('Digitación'!AU:AU,3)/$B$8 -> 0 | E75: =COUNTIF('Digitación'!AU:AU,4)/$B$8 -> 0 | F75: =COUNTIF('Digitación'!AU:AU,5)/$B$8 -> 0 | G75: =AVERAGE(D75+E75+F75) -> 0 | H75: =AVERAGE(B75+C75) -> 0
A76: 47.A fin de año se invita a los estudiantes con problemas de conducta a buscar otro ambiente educativo | B76: =COUNTIF('Digitación'!AV:AV,1)/$B$8 -> 0 | C76: =COUNTIF('Digitación'!AV:AV,2)/$B$8 -> 0 | D76: =COUNTIF('Digitación'!AV:AV,3)/$B$8 -> 0 | E76: =COUNTIF('Digitación'!AV:AV,4)/$B$8 -> 0 | F76: =COUNTIF('Digitación'!AV:AV,5)/$B$8 -> 0 | G76: =AVERAGE(D76+E76+F76) -> 0 | H76: =AVERAGE(B76+C76) -> 0
A77: 48.Creemos que es necesario incorporar cambios para mejorar la convivencia escolar. | B77: =COUNTIF('Digitación'!AW:AW,1)/$B$8 -> 0 | C77: =COUNTIF('Digitación'!AW:AW,2)/$B$8 -> 0 | D77: =COUNTIF('Digitación'!AW:AW,3)/$B$8 -> 0 | E77: =COUNTIF('Digitación'!AW:AW,4)/$B$8 -> 0 | F77: =COUNTIF('Digitación'!AW:AW,5)/$B$8 -> 0 | G77: =AVERAGE(D77+E77+F77) -> 0 | H77: =AVERAGE(B77+C77) -> 0
A78: 49.Existe una apertura constante al cambio para el desarrollo de esta escuela. | B78: =COUNTIF('Digitación'!AX:AX,1)/$B$8 -> 0 | C78: =COUNTIF('Digitación'!AX:AX,2)/$B$8 -> 0 | D78: =COUNTIF('Digitación'!AX:AX,3)/$B$8 -> 0 | E78: =COUNTIF('Digitación'!AX:AX,4)/$B$8 -> 0 | F78: =COUNTIF('Digitación'!AX:AX,5)/$B$8 -> 0 | G78: =AVERAGE(D78+E78+F78) -> 0 | H78: =AVERAGE(B78+C78) -> 0
A79: 50.El equipo directivo apoya los cambios propuestos para mejorar la convivencia escolar. | B79: =COUNTIF('Digitación'!AY:AY,1)/$B$8 -> 0 | C79: =COUNTIF('Digitación'!AY:AY,2)/$B$8 -> 0 | D79: =COUNTIF('Digitación'!AY:AY,3)/$B$8 -> 0 | E79: =COUNTIF('Digitación'!AY:AY,4)/$B$8 -> 0 | F79: =COUNTIF('Digitación'!AY:AY,5)/$B$8 -> 0 | G79: =AVERAGE(D79+E79+F79) -> 0 | H79: =AVERAGE(B79+C79) -> 0
A80: 51.Existe una disposición constante al cambio cuando las estrategias no dan resultados. | B80: =COUNTIF('Digitación'!AZ:AZ,1)/$B$8 -> 0 | C80: =COUNTIF('Digitación'!AZ:AZ,2)/$B$8 -> 0 | D80: =COUNTIF('Digitación'!AZ:AZ,3)/$B$8 -> 0 | E80: =COUNTIF('Digitación'!AZ:AZ,4)/$B$8 -> 0 | F80: =COUNTIF('Digitación'!AZ:AZ,5)/$B$8 -> 0 | G80: =AVERAGE(D80+E80+F80) -> 0 | H80: =AVERAGE(B80+C80) -> 0
A81: 52.Los profesores y profesionales de apoyo conforman un equipo de trabajo cohesionado. | B81: =COUNTIF('Digitación'!BA:BA,1)/$B$8 -> 0 | C81: =COUNTIF('Digitación'!BA:BA,2)/$B$8 -> 0 | D81: =COUNTIF('Digitación'!BA:BA,3)/$B$8 -> 0 | E81: =COUNTIF('Digitación'!BA:BA,4)/$B$8 -> 0 | F81: =COUNTIF('Digitación'!BA:BA,5)/$B$8 -> 0 | G81: =AVERAGE(D81+E81+F81) -> 0 | H81: =AVERAGE(B81+C81) -> 0
A82: 53.Los profesores y profesionales de apoyo conforman un equipo de trabajo competente. | B82: =COUNTIF('Digitación'!BB:BB,1)/$B$8 -> 0 | C82: =COUNTIF('Digitación'!BB:BB,2)/$B$8 -> 0 | D82: =COUNTIF('Digitación'!BB:BB,3)/$B$8 -> 0 | E82: =COUNTIF('Digitación'!BB:BB,4)/$B$8 -> 0 | F82: =COUNTIF('Digitación'!BB:BB,5)/$B$8 -> 0 | G82: =AVERAGE(D82+E82+F82) -> 0 | H82: =AVERAGE(B82+C82) -> 0
A83: 54.Los profesores en general tienen una buena opinión de sus colegas. | B83: =COUNTIF('Digitación'!BC:BC,1)/$B$8 -> 0 | C83: =COUNTIF('Digitación'!BC:BC,2)/$B$8 -> 0 | D83: =COUNTIF('Digitación'!BC:BC,3)/$B$8 -> 0 | E83: =COUNTIF('Digitación'!BC:BC,4)/$B$8 -> 0 | F83: =COUNTIF('Digitación'!BC:BC,5)/$B$8 -> 0 | G83: =AVERAGE(D83+E83+F83) -> 0 | H83: =AVERAGE(B83+C83) -> 0
A84: 55.Existe una buena comunicación entre profesores y el equipo directivo. | B84: =COUNTIF('Digitación'!BD:BD,1)/$B$8 -> 0 | C84: =COUNTIF('Digitación'!BD:BD,2)/$B$8 -> 0 | D84: =COUNTIF('Digitación'!BD:BD,3)/$B$8 -> 0 | E84: =COUNTIF('Digitación'!BD:BD,4)/$B$8 -> 0 | F84: =COUNTIF('Digitación'!BD:BD,5)/$B$8 -> 0 | G84: =AVERAGE(D84+E84+F84) -> 0 | H84: =AVERAGE(B84+C84) -> 0
A85: 56.El equipo directivo comunica a los miembros de la comunidad escolar que siempre pueden mejorar sus prácticas. | B85: =COUNTIF('Digitación'!BE:BE,1)/$B$8 -> 0 | C85: =COUNTIF('Digitación'!BE:BE,2)/$B$8 -> 0 | D85: =COUNTIF('Digitación'!BE:BE,3)/$B$8 -> 0 | E85: =COUNTIF('Digitación'!BE:BE,4)/$B$8 -> 0 | F85: =COUNTIF('Digitación'!BE:BE,5)/$B$8 -> 0 | G85: =AVERAGE(D85+E85+F85) -> 0 | H85: =AVERAGE(B85+C85) -> 0
A86: 57.Las reuniones periódicas sí sirven para resolver los problemas y tomar decisiones. | B86: =COUNTIF('Digitación'!BF:BF,1)/$B$8 -> 0 | C86: =COUNTIF('Digitación'!BF:BF,2)/$B$8 -> 0 | D86: =COUNTIF('Digitación'!BF:BF,3)/$B$8 -> 0 | E86: =COUNTIF('Digitación'!BF:BF,4)/$B$8 -> 0 | F86: =COUNTIF('Digitación'!BF:BF,5)/$B$8 -> 0 | G86: =AVERAGE(D86+E86+F86) -> 0 | H86: =AVERAGE(B86+C86) -> 0
A87: 58.El equipo directivo, profesores y profesionales no docentes comparten la misma visión sobre convivencia escolar. | B87: =COUNTIF('Digitación'!BG:BG,1)/$B$8 -> 0 | C87: =COUNTIF('Digitación'!BG:BG,2)/$B$8 -> 0 | D87: =COUNTIF('Digitación'!BG:BG,3)/$B$8 -> 0 | E87: =COUNTIF('Digitación'!BG:BG,4)/$B$8 -> 0 | F87: =COUNTIF('Digitación'!BG:BG,5)/$B$8 -> 0 | G87: =AVERAGE(D87+E87+F87) -> 0 | H87: =AVERAGE(B87+C87) -> 0
A88: 59.Han habido acciones para la mejora de la convivencia escolar, que demuestran el compromiso de la escuela sobre este tema. | B88: =COUNTIF('Digitación'!BH:BH,1)/$B$8 -> 0 | C88: =COUNTIF('Digitación'!BH:BH,2)/$B$8 -> 0 | D88: =COUNTIF('Digitación'!BH:BH,3)/$B$8 -> 0 | E88: =COUNTIF('Digitación'!BH:BH,4)/$B$8 -> 0 | F88: =COUNTIF('Digitación'!BH:BH,5)/$B$8 -> 0 | G88: =AVERAGE(D88+E88+F88) -> 0 | H88: =AVERAGE(B88+C88) -> 0
A89: 60.Se incluye a todos los miembros de la comunidad (estudiantes, padres y apoderados, etc) en el proceso de la mejora de la convivencia escolar. | B89: =COUNTIF('Digitación'!BI:BI,1)/$B$8 -> 0 | C89: =COUNTIF('Digitación'!BI:BI,2)/$B$8 -> 0 | D89: =COUNTIF('Digitación'!BI:BI,3)/$B$8 -> 0 | E89: =COUNTIF('Digitación'!BI:BI,4)/$B$8 -> 0 | F89: =COUNTIF('Digitación'!BI:BI,5)/$B$8 -> 0 | G89: =AVERAGE(D89+E89+F89) -> 0 | H89: =AVERAGE(B89+C89) -> 0
A90: 61.Uno de los objetivos explícitos es el desarrollo de una cultura de la confianza. | B90: =COUNTIF('Digitación'!BJ:BJ,1)/$B$8 -> 0 | C90: =COUNTIF('Digitación'!BJ:BJ,2)/$B$8 -> 0 | D90: =COUNTIF('Digitación'!BJ:BJ,3)/$B$8 -> 0 | E90: =COUNTIF('Digitación'!BJ:BJ,4)/$B$8 -> 0 | F90: =COUNTIF('Digitación'!BJ:BJ,5)/$B$8 -> 0 | G90: =AVERAGE(D90+E90+F90) -> 0 | H90: =AVERAGE(B90+C90) -> 0
A91: 62.Uno de los objetivos de esta escuela es el fomento de la solidaridad | B91: =COUNTIF('Digitación'!BK:BK,1)/$B$8 -> 0 | C91: =COUNTIF('Digitación'!BK:BK,2)/$B$8 -> 0 | D91: =COUNTIF('Digitación'!BK:BK,3)/$B$8 -> 0 | E91: =COUNTIF('Digitación'!BK:BK,4)/$B$8 -> 0 | F91: =COUNTIF('Digitación'!BK:BK,5)/$B$8 -> 0 | G91: =AVERAGE(D91+E91+F91) -> 0 | H91: =AVERAGE(B91+C91) -> 0
A92: 63.Existen los recursos necesarios para apoyar los procesos de mejoramiento de la convivencia escolar. | B92: =COUNTIF('Digitación'!BL:BL,1)/$B$8 -> 0 | C92: =COUNTIF('Digitación'!BL:BL,2)/$B$8 -> 0 | D92: =COUNTIF('Digitación'!BL:BL,3)/$B$8 -> 0 | E92: =COUNTIF('Digitación'!BL:BL,4)/$B$8 -> 0 | F92: =COUNTIF('Digitación'!BL:BL,5)/$B$8 -> 0 | G92: =AVERAGE(D92+E92+F92) -> 0 | H92: =AVERAGE(B92+C92) -> 0
A93: 64.El equipo directivo señala que el mejoramiento de la convivencia escolar es un proceso continuo y tarea de todos. | B93: =COUNTIF('Digitación'!BM:BM,1)/$B$8 -> 0 | C93: =COUNTIF('Digitación'!BM:BM,2)/$B$8 -> 0 | D93: =COUNTIF('Digitación'!BM:BM,3)/$B$8 -> 0 | E93: =COUNTIF('Digitación'!BM:BM,4)/$B$8 -> 0 | F93: =COUNTIF('Digitación'!BM:BM,5)/$B$8 -> 0 | G93: =AVERAGE(D93+E93+F93) -> 0 | H93: =AVERAGE(B93+C93) -> 0
A94: 65.La reflexión es una habilidad explícita (se habla de ella) y es bien valorada por la comunidad. | B94: =COUNTIF('Digitación'!BN:BN,1)/$B$8 -> 0 | C94: =COUNTIF('Digitación'!BN:BN,2)/$B$8 -> 0 | D94: =COUNTIF('Digitación'!BN:BN,3)/$B$8 -> 0 | E94: =COUNTIF('Digitación'!BN:BN,4)/$B$8 -> 0 | F94: =COUNTIF('Digitación'!BN:BN,5)/$B$8 -> 0 | G94: =AVERAGE(D94+E94+F94) -> 0 | H94: =AVERAGE(B94+C94) -> 0
A95: 66.Se adoptan medidas preventivas para evitar los problemas de convivencia. | B95: =COUNTIF('Digitación'!BO:BO,1)/$B$8 -> 0 | C95: =COUNTIF('Digitación'!BO:BO,2)/$B$8 -> 0 | D95: =COUNTIF('Digitación'!BO:BO,3)/$B$8 -> 0 | E95: =COUNTIF('Digitación'!BO:BO,4)/$B$8 -> 0 | F95: =COUNTIF('Digitación'!BO:BO,5)/$B$8 -> 0 | G95: =AVERAGE(D95+E95+F95) -> 0 | H95: =AVERAGE(B95+C95) -> 0
A96: 67.Se identifican a tiempo juegos violentos en el recreo. | B96: =COUNTIF('Digitación'!BP:BP,1)/$B$8 -> 0 | C96: =COUNTIF('Digitación'!BP:BP,2)/$B$8 -> 0 | D96: =COUNTIF('Digitación'!BP:BP,3)/$B$8 -> 0 | E96: =COUNTIF('Digitación'!BP:BP,4)/$B$8 -> 0 | F96: =COUNTIF('Digitación'!BP:BP,5)/$B$8 -> 0 | G96: =AVERAGE(D96+E96+F96) -> 0 | H96: =AVERAGE(B96+C96) -> 0
A97: 68.Se identifican a tiempo los conflictos entre estudiantes y profesores | B97: =COUNTIF('Digitación'!BQ:BQ,1)/$B$8 -> 0 | C97: =COUNTIF('Digitación'!BQ:BQ,2)/$B$8 -> 0 | D97: =COUNTIF('Digitación'!BQ:BQ,3)/$B$8 -> 0 | E97: =COUNTIF('Digitación'!BQ:BQ,4)/$B$8 -> 0 | F97: =COUNTIF('Digitación'!BQ:BQ,5)/$B$8 -> 0 | G97: =AVERAGE(D97+E97+F97) -> 0 | H97: =AVERAGE(B97+C97) -> 0
A98: 69.Se identifican a tiempo las relaciones violentas entre estudiantes (sean de compañeros, pololeo o amistad). | B98: =COUNTIF('Digitación'!BR:BR,1)/$B$8 -> 0 | C98: =COUNTIF('Digitación'!BR:BR,2)/$B$8 -> 0 | D98: =COUNTIF('Digitación'!BR:BR,3)/$B$8 -> 0 | E98: =COUNTIF('Digitación'!BR:BR,4)/$B$8 -> 0 | F98: =COUNTIF('Digitación'!BR:BR,5)/$B$8 -> 0 | G98: =AVERAGE(D98+E98+F98) -> 0 | H98: =AVERAGE(B98+C98) -> 0
A99: 70.Se utilizan los consejos de cursos para tratar temas que mejoren la convivencia. | B99: =COUNTIF('Digitación'!BS:BS,1)/$B$8 -> 0 | C99: =COUNTIF('Digitación'!BS:BS,2)/$B$8 -> 0 | D99: =COUNTIF('Digitación'!BS:BS,3)/$B$8 -> 0 | E99: =COUNTIF('Digitación'!BS:BS,4)/$B$8 -> 0 | F99: =COUNTIF('Digitación'!BS:BS,5)/$B$8 -> 0 | G99: =AVERAGE(D99+E99+F99) -> 0 | H99: =AVERAGE(B99+C99) -> 0
A100: 71.Se promueve la resolución pacífica de conflictos. | B100: =COUNTIF('Digitación'!BT:BT,1)/$B$8 -> 0 | C100: =COUNTIF('Digitación'!BT:BT,2)/$B$8 -> 0 | D100: =COUNTIF('Digitación'!BT:BT,3)/$B$8 -> 0 | E100: =COUNTIF('Digitación'!BT:BT,4)/$B$8 -> 0 | F100: =COUNTIF('Digitación'!BT:BT,5)/$B$8 -> 0 | G100: =AVERAGE(D100+E100+F100) -> 0 | H100: =AVERAGE(B100+C100) -> 0
A101: 72.Se promueve la tolerancia, el compañerismo y la solidaridad entre los miembros del establecimiento. | B101: =COUNTIF('Digitación'!BU:BU,1)/$B$8 -> 0 | C101: =COUNTIF('Digitación'!BU:BU,2)/$B$8 -> 0 | D101: =COUNTIF('Digitación'!BU:BU,3)/$B$8 -> 0 | E101: =COUNTIF('Digitación'!BU:BU,4)/$B$8 -> 0 | F101: =COUNTIF('Digitación'!BU:BU,5)/$B$8 -> 0 | G101: =AVERAGE(D101+E101+F101) -> 0 | H101: =AVERAGE(B101+C101) -> 0
A102: 73.Se trabajan cotidianamente los objetivos fundamentales transversales del currículum. | B102: =COUNTIF('Digitación'!BV:BV,1)/$B$8 -> 0 | C102: =COUNTIF('Digitación'!BV:BV,2)/$B$8 -> 0 | D102: =COUNTIF('Digitación'!BV:BV,3)/$B$8 -> 0 | E102: =COUNTIF('Digitación'!BV:BV,4)/$B$8 -> 0 | F102: =COUNTIF('Digitación'!BV:BV,5)/$B$8 -> 0 | G102: =AVERAGE(D102+E102+F102) -> 0 | H102: =AVERAGE(B102+C102) -> 0
A103: 74.Existen instancias y actividades de fortalecimiento para el aprendizaje de habilidades emociones y sociales. | B103: =COUNTIF('Digitación'!BW:BW,1)/$B$8 -> 0 | C103: =COUNTIF('Digitación'!BW:BW,2)/$B$8 -> 0 | D103: =COUNTIF('Digitación'!BW:BW,3)/$B$8 -> 0 | E103: =COUNTIF('Digitación'!BW:BW,4)/$B$8 -> 0 | F103: =COUNTIF('Digitación'!BW:BW,5)/$B$8 -> 0 | G103: =AVERAGE(D103+E103+F103) -> 0 | H103: =AVERAGE(B103+C103) -> 0
A106: ¿CÓMO INTERPRETAR LOS RESULTADOS?
A108: Esta encuesta no cuenta con baremos, es decir, no tiene una clasificación respecto a qué porcentaje es un "buen" o "mal" clima. No obstante, para que pueda tener una referencia a continuación se presenta la comparación entre sus resultados y los obtenidos por una muestra de 1.895 estudiantes de NSE aplicado el año XXXX en XXXXX.
A115: Dimensión | B115: 🔺 | C115: 🔻 | D115: 🔺 | E115: 🔻
...

Sheet Graficos
A1: En base a la Digitación y de acuerdo a los resultados vistos en el Informe de Tablas, los resultados graficos del total y de cada pregunta son los siguientes:
A4: SIMBOLOGÍA
A5: 🔺 : Porcentaje de frecuena alta en prácticas de convivencia escolar (3 Regularmente - 5 siempre).
A6: 🔻: Porcentaje de frecuencia baja o nula en prácticas de convivencia escolar (1 Nunca - 2 Algunas veces).
