Workbook

Sheet Digitación
E2: Escala Prácticas de Convivencia Escolar para Equipos Directivos, Profesores y Asistentes de la Educación
E3: Programa de Apoyo a la Convivencia Escolar PACES
B5: DIGITE CADA ENCUESTA, MARCANDO LAS RESPUESTAS DE LA SIGUIENTE MANERA:
B6: 1= Nunca | D6: 3= Regularmente | F6: 5= Siempre
B8: 2= Algunas veces | D8: 4= Casi siempre
A9: ENCUESTA Nº | B9: 1.Existe un ambiente familiar. | C9: 2.Nos sentimos orgullosos de trabajar aquí. | D9: 3.Cuando llega un nuevo profesor, recibe una inducción. | E9: 4.Existe confianza y buena comunicación entre todos los actores de la comunidad escolar. | F9: 5.Los padres y apoderados confían en la escuela. | G9: 6.Existe una comunicación fluida con los padres y apoderados | H9: 7.Percibimos a los estudiantes contentos y a las familias satisfechas. | I9: 8.Hay muchas tradiciones que nos hacen sentir parte de ella. | J9: 9.Existen estrategias efectivas para potenciar a los estudiantes con intereses diversos. | K9: 10.Se identifican a tiempo a los estudiantes que presentan necesidades de apoyo (sociales, afectivas y conductuales) | L9: 11.Existen mecanismos efectivos para apoyar a los estudiantes que presentan problemas de aprendizaje. | M9: 12.Existen mecanismos efectivos para apoyar a los estudiantes que presentan problemas de conducta. | N9: 13.Los estudiantes más aventajados ayudan a los que presentan barreras para el aprendizaje. | O9: 14.Los profesores monitorean constantemente el aprendizaje de los estudiantes. | P9: 15.Al equipo directivo le interesa el desarrollo y la formación continua de los profesores. | Q9: 16.Se promueve el perfeccionamiento docente de todos los profesores. | R9: 17.Existe una cultura de mejoramiento continuo. | S9: 18.Los profesores y demás profesionales pueden proponer cosas nuevas | T9: 19.Son acogidas las propuestas formuladas por los profesores y demás profesionales | U9: 20.La formación continua y el crecimiento profesional están altamente arraigados en la cultura escolar. | V9: 21.Se promueve la formación de profesionales no docentes (psicólogos, asistentes sociales, etc). | W9: 22.Siempre estamos evaluando lo que hacemos y nos retroalimentamos. | X9: 23.Todos tenemos claros nuestros objetivos como miembros de esta comunidad escolar. | Y9: 24.Todos trabajamos para llevar a cabo objetivos comunes. | Z9: 25.Los profesores comparten sus buenas prácticas para mejorar la convivencia escolar. | AA9: 26.Los profesores comparten sus buenas prácticas para mejorar los aprendizajes. | AB9: 27.Existe una responsabilidad compartida: los triunfos y fracasos son de todos. | AC9: 28.Las normas son claras y conocidas por todos/as. | AD9: 29.Las normas se aplican con justicia | AE9: 30.Los profesores se apoyan en el reglamento escolar para resolver los problemas que se presentan en la sala de clases. | AF9: 31.Los asistentes de la educación se apoyan en el reglamento escolar para resolver los problemas que se presentan fuera del aula. | AG9: 32.El equipo directivo se apoya en el reglamento escolar para resolver los problemas que se presentan en la escuela. | AH9: 33.Los estudiantes están motivados y participan activamente en la vida de la escuela. | AI9: 34.Se atiende a los padres y apoderados que requieren atención especial para sus hijos. | AJ9: 35.Se respetan las ideas de los estudiantes. | AK9: 36.Se les motiva a los estudiantes para que puedan expresar sus ideas. | AL9: 37.Se toman en cuenta las opiniones de los padres y apoderados sobre la formación de sus hijos | AM9: 38.Se toman en cuenta las opiniones de los estudiantes respecto de su formación. | AN9: 39.Se crean las instancias para que participen los vecinos u otros miembros de la comuna | AO9: 40.Los vecinos del barrio tienen una opinión positiva de la escuela. | AP9: 41.Los padres y apoderados participan activamente en las soluciones antes los problemas de convivencia escolar. | AQ9: 42.Los padres y apoderados participan del diseño de protocolos y reglamentos de convivencia escolar. | AR9: 43.Los estudiantes participan del diseño de protocolos y reglamentos de convivencia escolar. | AS9: 44.Se castiga a los estudiantes que presentan problemas de conducta. | AT9: 45.Se suspende temporalmente de la escuela a los estudiantes que cometen faltas. | AU9: 46.Se expulsa de la sala de clases a los estudiantes que interfieren el buen clima de aula. | AV9: 47.A fin de año se invita a los estudiantes con problemas de conducta a buscar otro ambiente educativo | AW9: 48.Creemos que es necesario incorporar cambios para mejorar la convivencia escolar. | AX9: 49.Existe una apertura constante al cambio para el desarrollo de esta escuela | AY9: 50.El equipo directivo apoya los cambios propuestos para mejorar la convivencia escolar. | AZ9: 51.Existe una disposición constante al cambio cuando las estrategias no dan resultados. | BA9: 52.Los profesores y profesionales de apoyo conforman un equipo de trabajo cohesionado. | BB9: 53.Los profesores y profesionales de apoyo conforman un equipo de trabajo competente. | BC9: 54.Los profesores en general tienen una buena opinión de sus colegas. | BD9: 55.Existe una buena comunicación entre profesores y el equipo directivo. | BE9: 56.El equipo directivo comunica a los miembros de la comunidad escolar que siempre pueden mejorar sus prácticas. | BF9: 57.Las reuniones periódicas sí sirven para resolver los problemas y tomar decisiones. | BG9: 58.El equipo directivo, profesores y profesionales no docentes comparten la misma visión sobre convivencia escolar. | BH9: 59.Han habido acciones para la mejora de la convivencia escolar, que demuestran el compromiso de la escuela sobre este tema. | BI9: 60.Se incluye a todos los miembros de la comunidad (estudiantes, padres y apoderados, etc) en el proceso de la mejora de la convivencia escolar. | BJ9: 61.Uno de los objetivos explícitos es el desarrollo de una cultura de la confianza. | BK9: 62.Uno de los objetivos de esta escuela es el fomento de la solidaridad | BL9: 63.Existen los recursos necesarios para apoyar los procesos de mejoramiento de la convivencia escolar. | BM9: 64.El equipo directivo señala que el mejoramiento de la convivencia escolar es un proceso continuo y tarea de todos. | BN9: 65.La reflexión es una habilidad explícita (se habla de ella) y es bien valorada por la comunidad. | BO9: 66.Se adoptan medidas preventivas para evitar los problemas de convivencia. | BP9: 67.Se identifican a tiempo juegos violentos en el recreo. | BQ9: 68.Se identifican a tiempo los conflictos entre estudiantes y profesores | BR9: 69.Se identifican a tiempo las relaciones violentas entre estudiantes (sean de compañeros, pololeo o amistad). | BS9: 70.Se utilizan los consejos de cursos para tratar temas que mejoren la convivencia. | BT9: 71.Se promueve la resolución pacífica de conflictos. | BU9: 72.Se promueve la tolerancia, el compañerismo y la solidaridad entre los miembros del establecimiento. | BV9: 73.Se trabajan cotidianamente los objetivos fundamentales transversales del currículum. | BW9: 74.Existen instancias y actividades de fortalecimiento para el aprendizaje de habilidades emociones y sociales.
A10: 1
A11: 2
A12: 3
A13: 4
A14: 5
A15: 6
A16: 7
A17: 8
A18: 9
A19: 10
A20: 11
A21: 12
... A109: 100

Sheet Informe con Tablas
A1: INFORME DE RESULTADOS Escala Prácticas de Convivencia Escolar para Equipos Directivos, Profesores y Asistentes de la Educación
A3: Consiste en un instrumento que permite revelar acciones concretas que realizan las y los adultos de la comunidad (Equipo directivo, profesores y asistentes de la educación) al interior de las escuelas respecto a prácticas de convivencia escolar
A5: ESTABLECIMIENTO:
A6: RESPONSABLE:
A8: Nº ENCUESTAS APLICADAS: | B8: 1
B9: (indicar la cantidad de personas que respondieron la encuesta)
A10: SIMBOLOGÍA
A11: 🔺 : Porcentaje de frecuena alta en prácticas de convivencia escolar (3 Regularmente - 5 siempre).
A12: 🔻: Porcentaje de frecuencia baja o nula en prácticas de convivencia escolar (1 Nunca - 2 Algunas veces).
A14: Dimensión | B14: 🔺 | C14: 🔻
A15: Cultura Inclusiva | B15: =AVERAGE(G30:G37) -> 0 | C15: =AVERAGE(H30:H37) -> 0
A16: Prácticas Inclusivas | B16: =AVERAGE(G38:G43) -> 0 | C16: =AVERAGE(H38:H43) -> 0
A17: Formación Continua | B17: =AVERAGE(G44:G51) -> 0 | C17: =AVERAGE(H44:H51) -> 0
A18: Orientación al Trabajo en Equipo | B18: =AVERAGE(G52:G56) -> 0 | C18: =AVERAGE(H52:H56) -> 0
A19: Normas Compartidas | B19: =AVERAGE(G57:G61) -> 0 | C19: =AVERAGE(H57:H61) -> 0
A20: Participación Democrática | B20: =AVERAGE(G62:G72) -> 0 | C20: =AVERAGE(H62:H72) -> 0
A21: Prácticas Punitivas | B21: =AVERAGE(G73:G76) -> 0 | C21: =AVERAGE(H73:H76) -> 0
A22: Actitudes de Disposición al Cambio | B22: =AVERAGE(G77:G80) -> 0 | C22: =AVERAGE(H77:H80) -> 0
A23: Disposición Organizacional | B23: =AVERAGE(G81:G86) -> 0 | C23: =AVERAGE(H81:H86) -> 0
A24: Cultura de Mejoramiento de la Convivencia | B24: =AVERAGE(G87:G94) -> 0 | C24: =AVERAGE(H87:H94) -> 0
A25: Prevención de los Problemas de Convivencia | B25: =AVERAGE(G95:G99) -> 0 | C25: =AVERAGE(H95:H99) -> 0
A26: Promoción de la Buena Convivencia | B26: =AVERAGE(G100:G103) -> 0 | C26: =AVERAGE(H100:H103) -> 0
B29: Nunca (1) | C29: Algunas veces (2) | D29: Regularmente (3) | E29: Casi siempre (4) | F29: Siempre (5) | G29: 🔺 | H29: 🔻
A30: 1.Existe un ambiente familiar. | B30: =COUNTIF('Digitación'!B:B,1)/$B$8 -> 0 | C30: =COUNTIF('Digitación'!B:B,2)/$B$8 -> 0 | D30: =COUNTIF('Digitación'!B:B,3)/$B$8 -> 0 | E30: =COUNTIF('Digitación'!B:B,4)/$B$8 -> 0 | F30: =COUNTIF('Digitación'!B:B,5)/$B$8 -> 0 | G30: =AVERAGE(D30+E30+F30) -> 0 | H30: =AVERAGE(B30+C30) -> 0
A31: 2.Nos sentimos orgullosos de trabajar aquí. | B31: =COUNTIF('Digitación'!C:C,1)/$B$8 -> 0 | C31: =COUNTIF('Digitación'!C:C,2)/$B$8 -> 0 | D31: =COUNTIF('Digitación'!C:C,3)/$B$8 -> 0 | E31: =COUNTIF('Digitación'!C:C,4)/$B$8 -> 0 | F31: =COUNTIF('Digitación'!C:C,5)/$B$8 -> 0 | G31: =AVERAGE(D31+E31+F31) -> 0 | H31: =AVERAGE(B31+C31) -> 0
A32: 3.Cuando llega un nuevo profesor, recibe una inducción. | B32: =COUNTIF('Digitación'!D:D,1)/$B$8 -> 0 | C32: =COUNTIF('Digitación'!D:D,2)/$B$8 -> 0 | D32: =COUNTIF('Digitación'!D:D,3)/$B$8 -> 0 | E32: =COUNTIF('Digitación'!D:D,4)/$B$8 -> 0 | F32: =COUNTIF('Digitación'!D:D,5)/$B$8 -> 0 | G32: =AVERAGE(D32+E32+F32) -> 0 | H32: =AVERAGE(B32+C32) -> 0
A33: 4.Existe confianza y buena comunicación entre todos los actores de la comunidad escolar. | B33: =COUNTIF('Digitación'!E:E,1)/$B$8 -> 0 | C33: =COUNTIF('Digitación'!E:E,2)/$B$8 -> 0 | D33: =COUNTIF('Digitación'!E:E,3)/$B$8 -> 0 | E33: =COUNTIF('Digitación'!E:E,4)/$B$8 -> 0 | F33: =COUNTIF('Digitación'!E:E,5)/$B$8 -> 0 | G33: =AVERAGE(D33+E33+F33) -> 0 | H33: =AVERAGE(B33+C33) -> 0
A34: 5.Los padres y apoderados confían en la escuela. | B34: =COUNTIF('Digitación'!F:F,1)/$B$8 -> 0 | C34: =COUNTIF('Digitación'!F:F,2)/$B$8 -> 0 | D34: =COUNTIF('Digitación'!F:F,3)/$B$8 -> 0 | E34: =COUNTIF('Digitación'!F:F,4)/$B$8 -> 0 | F34: =COUNTIF('Digitación'!F:F,5)/$B$8 -> 0 | G34: =AVERAGE(D34+E34+F34) -> 0 | H34: =AVERAGE(B34+C34) -> 0
A35: 6.Existe una comunicación fluida con los padres y apoderados | B35: =COUNTIF('Digitación'!G:G,1)/$B$8 -> 0 | C35: =COUNTIF('Digitación'!G:G,2)/$B$8 -> 0 | D35: =COUNTIF('Digitación'!G:G,3)/$B$8 -> 0 | E35: =COUNTIF('Digitación'!G:G,4)/$B$8 -> 0 | F35: =COUNTIF('Digitación'!G:G,5)/$B$8 -> 0 | G35: =AVERAGE(D35+E35+F35) -> 0 | H35: =AVERAGE(B35+C35) -> 0
A36: 7.Percibimos a los estudiantes contentos y a las familias satisfechas. | B36: =COUNTIF('Digitación'!H:H,1)/$B$8 -> 0 | C36: =COUNTIF('Digitación'!H:H,2)/$B$8 -> 0 | D36: =COUNTIF('Digitación'!H:H,3)/$B$8 -> 0 | E36: =COUNTIF('Digitación'!H:H,4)/$B$8 -> 0 | F36: =COUNTIF('Digitación'!H:H,5)/$B$8 -> 0 | G36: =AVERAGE(D36+E36+F36) -> 0 | H36: =AVERAGE(B36+C36) -> 0
A37: 8.Hay muchas tradiciones que nos hacen sentir parte de ella. | B37: =COUNTIF('Digitación'!I:I,1)/$B$8 -> 0 | C37: =COUNTIF('Digitación'!I:I,2)/$B$8 -> 0 | D37: =COUNTIF('Digitación'!I:I,3)/$B$8 -> 0 | E37: =COUNTIF('Digitación'!I:I,4)/$B$8 -> 0 | F37: =COUNTIF('Digitación'!I:I,5)/$B$8 -> 0 | G37: =AVERAGE(D37+E37+F37) -> 0 | H37: =AVERAGE(B37+C37) -> 0
A38: 9.Existen estrategias efectivas para potenciar a los estudiantes con intereses diversos. | B38: =COUNTIF('Digitación'!J:J,1)/$B$8 -> 0 | C38: =COUNTIF('Digitación'!J:J,2)/$B$8 -> 0 | D38: =COUNTIF('Digitación'!J:J,3)/$B$8 -> 0 | E38: =COUNTIF('Digitación'!J:J,4)/$B$8 -> 0 | F38: =COUNTIF('Digitación'!J:J,5)/$B$8 -> 0 | G38: =AVERAGE(D38+E38+F38) -> 0 | H38: =AVERAGE(B38+C38) -> 0
A39: 10.Se identifican a tiempo a los estudiantes que presentan necesidades de apoyo (sociales, afectivas y conductuales) | B39: =COUNTIF('Digitación'!K:K,1)/$B$8 -> 0 | C39: =COUNTIF('Digitación'!K:K,2)/$B$8 -> 0 | D39: =COUNTIF('Digitación'!K:K,3)/$B$8 -> 0 | E39: =COUNTIF('Digitación'!K:K,4)/$B$8 -> 0 | F39: =COUNTIF('Digitación'!K:K,5)/$B$8 -> 0 | G39: =AVERAGE(D39+E39+F39) -> 0 | H39: =AVERAGE(B39+C39) -> 0
A40: 11.Existen mecanismos efectivos para apoyar a los estudiantes que presentan problemas de aprendizaje. | B40: =COUNTIF('Digitación'!L:L,1)/$B$8 -> 0 | C40: =COUNTIF('Digitación'!L:L,2)/$B$8 -> 0 | D40: =COUNTIF('Digitación'!L:L,3)/$B$8 -> 0 | E40: =COUNTIF('Digitación'!L:L,4)/$B$8 -> 0 | F40: =COUNTIF('Digitación'!L:L,5)/$B$8 -> 0 | G40: =AVERAGE(D40+E40+F40) -> 0 | H40: =AVERAGE(B40+C40) -> 0
A41: 12.Existen mecanismos efectivos para apoyar a los estudiantes que presentan problemas de conducta. | B41: =COUNTIF('Digitación'!M:M,1)/$B$8 -> 0 | C41: =COUNTIF('Digitación'!M:M,2)/$B$8 -> 0 | D41: =COUNTIF('Digitación'!M:M,3)/$B$8 -> 0 | E41: =COUNTIF('Digitación'!M:M,4)/$B$8 -> 0 | F41: =COUNTIF('Digitación'!M:M,5)/$B$8 -> 0 | G41: =AVERAGE(D41+E41+F41) -> 0 | H41: =AVERAGE(B41+C41) -> 0
A42: 13.Los estudiantes más aventajados ayudan a los que presentan barreras para el aprendizaje. | B42: =COUNTIF('Digitación'!N:N,1)/$B$8 -> 0 | C42: =COUNTIF('Digitación'!N:N,2)/$B$8 -> 0 | D42: =COUNTIF('Digitación'!N:N,3)/$B$8 -> 0 | E42: =COUNTIF('Digitación'!N:N,4)/$B$8 -> 0 | F42: =COUNTIF('Digitación'!N:N,5)/$B$8 -> 0 | G42: =AVERAGE(D42+E42+F42) -> 0 | H42: =AVERAGE(B42+C42) -> 0
A43: 14.Los profesores monitorean constantemente el aprendizaje de los estudiantes. | B43: =COUNTIF('Digitación'!O:O,1)/$B$8 -> 0 | C43: =COUNTIF('Digitación'!O:O,2)/$B$8 -> 0 | D43: =COUNTIF('Digitación'!O:O,3)/$B$8 -> 0 | E43: =COUNTIF('Digitación'!O:O,4)/$B$8 -> 0 | F43: =COUNTIF('Digitación'!O:O,5)/$B$8 -> 0 | G43: =AVERAGE(D43+E43+F43) -> 0 | H43: =AVERAGE(B43+C43) -> 0
A44: 15.Al equipo directivo le interesa el desarrollo y la formación continua de los profesores. | B44: =COUNTIF('Digitación'!P:P,1)/$B$8 -> 0 | C44: =COUNTIF('Digitación'!P:P,2)/$B$8 -> 0 | D44: =COUNTIF('Digitación'!P:P,3)/$B$8 -> 0 | E44: =COUNTIF('Digitación'!P:P,4)/$B$8 -> 0 | F44: =COUNTIF('Digitación'!P:P,5)/$B$8 -> 0 | G44: =AVERAGE(D44+E44+F44) -> 0 | H44: =AVERAGE(B44+C44) -> 0
A45: 16.Se promueve el perfeccionamiento docente de todos los profesores. | B45: =COUNTIF('Digitación'!Q:Q,1)/$B$8 -> 0 | C45: =COUNTIF('Digitación'!Q:Q,2)/$B$8 -> 0 | D45: =COUNTIF('Digitación'!Q:Q,3)/$B$8 -> 0 | E45: =COUNTIF('Digitación'!Q:Q,4)/$B$8 -> 0 | F45: =COUNTIF('Digitación'!Q:Q,5)/$B$8 -> 0 | G45: =AVERAGE(D45+E45+F45) -> 0 | H45: =AVERAGE(B45+C45) -> 0
A46: 17.Existe una cultura de mejoramiento continuo. | B46: =COUNTIF('Digitación'!R:R,1)/$B$8 -> 0 | C46: =COUNTIF('Digitación'!R:R,2)/$B$8 -> 0 | D46: =COUNTIF('Digitación'!R:R,3)/$B$8 -> 0 | E46: =COUNTIF('Digitación'!R:R,4)/$B$8 -> 0 | F46: =COUNTIF('Digitación'!R:R,5)/$B$8 -> 0 | G46: =AVERAGE(D46+E46+F46) -> 0 | H46: =AVERAGE(B46+C46) -> 0
...

Sheet Graficos
A1: En base a la Digitación y de acuerdo a los resultados vistos en el Informe de Tablas, los resultados graficos del total y de cada pregunta son los siguientes:
A4: SIMBOLOGÍA
A5: 🔺 : Porcentaje de frecuena alta en prácticas de convivencia escolar (3 Regularmente - 5 siempre).
A6: 🔻: Porcentaje de frecuencia baja o nula en prácticas de convivencia escolar (1 Nunca - 2 Algunas veces).
